BEGIN:VCALENDAR
VERSION:2.0
PRODID:-//Waldorf24 - ECPv6.15.20//NONSGML v1.0//EN
CALSCALE:GREGORIAN
METHOD:PUBLISH
X-WR-CALNAME:Waldorf24
X-ORIGINAL-URL:https://waldorf24.de
X-WR-CALDESC:Veranstaltungen für Waldorf24
REFRESH-INTERVAL;VALUE=DURATION:PT1H
X-Robots-Tag:noindex
X-PUBLISHED-TTL:PT1H
BEGIN:VTIMEZONE
TZID:UTC
BEGIN:STANDARD
TZOFFSETFROM:+0000
TZOFFSETTO:+0000
TZNAME:UTC
DTSTART:20200101T000000
END:STANDARD
END:VTIMEZONE
BEGIN:VEVENT
DTSTART;TZID=UTC:20220409T080000
DTEND;TZID=UTC:20220409T170000
DTSTAMP:20260420T044730
CREATED:20220409T083027Z
LAST-MODIFIED:20220409T083027Z
UID:209-1649491200-1649523600@waldorf24.de
SUMMARY:12. Klassarbeiten
DESCRIPTION:
URL:https://waldorf24.de/event/12-klassarbeiten/
END:VEVENT
BEGIN:VEVENT
DTSTART;TZID=UTC:20211113T200000
DTEND;TZID=UTC:20211113T220000
DTSTAMP:20260420T044730
CREATED:20211020T161708Z
LAST-MODIFIED:20211020T161858Z
UID:110-1636833600-1636840800@waldorf24.de
SUMMARY:12. Klass-Spiel
DESCRIPTION:2. Hauptaufführung des 12. Klass-Spiel der Waldorfschule Offenburg
URL:https://waldorf24.de/event/12-klass-spiel/
LOCATION:Waldorfschule Offenburg\, Molkestr. 3\, 77654 Offenburg\, Deutschland
CATEGORIES:Klassenspiele
ATTACH;FMTTYPE=image/jpeg:https://waldorf24.de/wp-content/uploads/2021/10/20211012_163040-scaled.jpg
END:VEVENT
BEGIN:VEVENT
DTSTART;TZID=UTC:20211112T200000
DTEND;TZID=UTC:20211112T220000
DTSTAMP:20260420T044730
CREATED:20211020T161723Z
LAST-MODIFIED:20211020T161918Z
UID:114-1636747200-1636754400@waldorf24.de
SUMMARY:12. Klass-Spiel
DESCRIPTION:1. Hauptaufführung des 12. Klass-Spiel der Waldorfschule Offenburg
URL:https://waldorf24.de/event/12-klass-spiel-2/
LOCATION:Waldorfschule Offenburg\, Molkestr. 3\, 77654 Offenburg\, Deutschland
CATEGORIES:Klassenspiele
END:VEVENT
END:VCALENDAR